View In:
ArcGIS JavaScript
ArcGIS Online Map Viewer
ArcGIS Earth
ArcGIS Pro
Service Description: basemap
I am pointing roads in the public access basemap to my centerline_routing layer in CENTERLINES_NETWORK cause I want them to show up for internal clients, like MOW.
Map Name: Centerlines
Legend
All Layers and Tables
Layers:
Description: basemap
I am pointing roads in the public access basemap to my centerline_routing layer in CENTERLINES_NETWORK cause I want them to show up for internal clients, like MOW.
Service Item Id: c5ce5f58adad4481b9106489db7f1553
Copyright Text:
Spatial Reference:
102100
(3857)
LatestVCSWkid(0)
Single Fused Map Cache: true
Tile Info:
- Height: 256.0
- Width: 256.0
- DPI: 96.0
-
Levels of Detail: 24
-
Level ID: 1
[ Start Tile, End Tile ]
- Resolution: 78271.5169639999
- Scale: 2.95828763795777E8
-
Level ID: 2
[ Start Tile, End Tile ]
- Resolution: 39135.7584820001
- Scale: 1.47914381897889E8
-
Level ID: 3
[ Start Tile, End Tile ]
- Resolution: 19567.8792409999
- Scale: 7.3957190948944E7
-
Level ID: 4
[ Start Tile, End Tile ]
- Resolution: 9783.93962049996
- Scale: 3.6978595474472E7
-
Level ID: 5
[ Start Tile, End Tile ]
- Resolution: 4891.96981024998
- Scale: 1.8489297737236E7
- Format: PNG
- Compression Quality: 0.0
- Origin: X: -2.0037508342787E7
Y: 2.0037508342787E7
- Spatial Reference: 102100
(3857)
LatestVCSWkid(0)
Storage Info:
- Storage Format: esriMapCacheStorageModeCompactV2
- Packet Size: 128
Initial Extent:
XMin: -9079724.615791144
YMin: 4217452.605737842
XMax: -9007726.064778334
YMax: 4292905.443300361
Spatial Reference: 102100
(0)
LatestVCSWkid(0)
Full Extent:
XMin: -9079319.506375719
YMin: -155455.06323908694
XMax: -256486.05601554437
YMax: 4279221.703193067
Spatial Reference: 102100
(0)
LatestVCSWkid(0)
Units: esriMeters
Supported Image Format Types: PNG32,PNG24,PNG,JPG,DIB,TIFF,EMF,PS,PDF,GIF,SVG,SVGZ,BMP
Document Info:
Title: MyProject2.aprx
Author:
Comments: basemap
I am pointing roads in the public access basemap to my centerline_routing layer in CENTERLINES_NETWORK cause I want them to show up for internal clients, like MOW.
Subject: basemap
Category:
Keywords: Centerlines
AntialiasingMode: Fast
TextAntialiasingMode: Force
Supports Dynamic Layers: false
Resampling: false
MaxRecordCount: 2000
MaxSelectionCount: 2000
MaxImageHeight: 4096
MaxImageWidth: 4096
Supported Query Formats: JSON, geoJSON, PBF
Supports Query Data Elements: true
Min Scale: 577790.554289
Max Scale: 564.248588
Supports Datum Transformation: true
Child Resources:
Info
Supported Operations:
Export Map
Identify
QueryLegends
QueryDomains
Find
Return Updates